BEGIN:VCALENDAR
VERSION:2.0
PRODID:-//Tyson Library - ECPv6.15.20//NONSGML v1.0//EN
CALSCALE:GREGORIAN
METHOD:PUBLISH
X-WR-CALNAME:Tyson Library
X-ORIGINAL-URL:https://tysonlibrary.org
X-WR-CALDESC:Events for Tyson Library
REFRESH-INTERVAL;VALUE=DURATION:PT1H
X-Robots-Tag:noindex
X-PUBLISHED-TTL:PT1H
BEGIN:VTIMEZONE
TZID:America/Indiana/Indianapolis
BEGIN:DAYLIGHT
TZOFFSETFROM:-0500
TZOFFSETTO:-0400
TZNAME:EDT
DTSTART:20250309T070000
END:DAYLIGHT
BEGIN:STANDARD
TZOFFSETFROM:-0400
TZOFFSETTO:-0500
TZNAME:EST
DTSTART:20251102T060000
END:STANDARD
BEGIN:DAYLIGHT
TZOFFSETFROM:-0500
TZOFFSETTO:-0400
TZNAME:EDT
DTSTART:20260308T070000
END:DAYLIGHT
BEGIN:STANDARD
TZOFFSETFROM:-0400
TZOFFSETTO:-0500
TZNAME:EST
DTSTART:20261101T060000
END:STANDARD
BEGIN:DAYLIGHT
TZOFFSETFROM:-0500
TZOFFSETTO:-0400
TZNAME:EDT
DTSTART:20270314T070000
END:DAYLIGHT
BEGIN:STANDARD
TZOFFSETFROM:-0400
TZOFFSETTO:-0500
TZNAME:EST
DTSTART:20271107T060000
END:STANDARD
END:VTIMEZONE
BEGIN:VEVENT
DTSTART;TZID=America/Indiana/Indianapolis:20260414T153000
DTEND;TZID=America/Indiana/Indianapolis:20260414T163000
DTSTAMP:20260422T182914
CREATED:20260119T141021Z
LAST-MODIFIED:20260410T130725Z
UID:10001119-1776180600-1776184200@tysonlibrary.org
SUMMARY:LEGO Club
DESCRIPTION:Join us for a fun time of LEGO play. This program may include different challenges or fun themes. Registration required. Grades K-6.
URL:https://tysonlibrary.org/event/lego-club-16/
LOCATION:Tyson Street\, 101 Tyson St\, Versailles\, IN\, United States
CATEGORIES:K-6
ATTACH;FMTTYPE=image/png:https://tysonlibrary.org/wp-content/uploads/2024/03/Fall-2025-LEGO-Club-Flyer-1024-x-600-px-1920-x-500-px.png
ORGANIZER;CN="Tyson Library":MAILTO:tali@tysonlibrary.org
GEO:39.071563;-85.251285
X-APPLE-STRUCTURED-LOCATION;VALUE=URI;X-ADDRESS=Tyson Street 101 Tyson St Versailles IN United States;X-APPLE-RADIUS=500;X-TITLE=101 Tyson St:geo:-85.251285,39.071563
END:VEVENT
BEGIN:VEVENT
DTSTART;VALUE=DATE:20260327
DTEND;VALUE=DATE:20260328
DTSTAMP:20260422T182914
CREATED:20260127T115404Z
LAST-MODIFIED:20260327T084912Z
UID:10001126-1774569600-1774655999@tysonlibrary.org
SUMMARY:Bookmark Contest Entry Deadline
DESCRIPTION:
URL:https://tysonlibrary.org/event/bookmark-contest-entry-deadline/
LOCATION:Tyson Street\, 101 Tyson St\, Versailles\, IN\, United States
CATEGORIES:All Age
ATTACH;FMTTYPE=image/png:https://tysonlibrary.org/wp-content/uploads/2026/01/Bookmark-Contest-Deadline-Ft-Image.png
ORGANIZER;CN="Tyson Library":MAILTO:tali@tysonlibrary.org
GEO:39.071563;-85.251285
X-APPLE-STRUCTURED-LOCATION;VALUE=URI;X-ADDRESS=Tyson Street 101 Tyson St Versailles IN United States;X-APPLE-RADIUS=500;X-TITLE=101 Tyson St:geo:-85.251285,39.071563
END:VEVENT
BEGIN:VEVENT
DTSTART;TZID=America/Indiana/Indianapolis:20260216T160000
DTEND;TZID=America/Indiana/Indianapolis:20260216T170000
DTSTAMP:20260422T182914
CREATED:20260119T140605Z
LAST-MODIFIED:20260216T001943Z
UID:10001105-1771257600-1771261200@tysonlibrary.org
SUMMARY:DIY Mosaic Coasters
DESCRIPTION:Adults are invited to join us to make their own personalized mosaic coaster. Participants will have the opportunity to design and create their own unique mosaic coasters using colorful tiles\, grout and adhesive. Registration is required for this program. Contact tali@tysonlibrary.org for more information. \nIf you successfully register and are unable to attend this program\, please cancel your registration so someone on the waitlist can join the program. We take attendance at our adult programs that require registration. Tyson Library staff members reserve the right to move a registrant to the waitlist if they are found to be consistently absent from programs requiring registration. 
URL:https://tysonlibrary.org/event/diy-mosaic-coasters-2/
LOCATION:Tyson Street\, 101 Tyson St\, Versailles\, IN\, United States
CATEGORIES:Adult
ATTACH;FMTTYPE=image/png:https://tysonlibrary.org/wp-content/uploads/2026/01/February-2026-Mosaic-Coasters-1024-x-600-px.png
ORGANIZER;CN="Tyson Library":MAILTO:tali@tysonlibrary.org
GEO:39.071563;-85.251285
X-APPLE-STRUCTURED-LOCATION;VALUE=URI;X-ADDRESS=Tyson Street 101 Tyson St Versailles IN United States;X-APPLE-RADIUS=500;X-TITLE=101 Tyson St:geo:-85.251285,39.071563
END:VEVENT
BEGIN:VEVENT
DTSTART;TZID=America/Indiana/Indianapolis:20260214T103000
DTEND;TZID=America/Indiana/Indianapolis:20260214T113000
DTSTAMP:20260422T182914
CREATED:20260119T140544Z
LAST-MODIFIED:20260213T234914Z
UID:10001103-1771065000-1771068600@tysonlibrary.org
SUMMARY:Valentines Party
DESCRIPTION:k-6 Valentines party!
URL:https://tysonlibrary.org/event/valentines-party/
LOCATION:Tyson Street\, 101 Tyson St\, Versailles\, IN\, United States
CATEGORIES:K-6
ATTACH;FMTTYPE=image/png:https://tysonlibrary.org/wp-content/uploads/2026/01/February-2026-Valentines-Day-Party-1024-x-600-px-1.png
ORGANIZER;CN="Tyson Library":MAILTO:tali@tysonlibrary.org
GEO:39.071563;-85.251285
X-APPLE-STRUCTURED-LOCATION;VALUE=URI;X-ADDRESS=Tyson Street 101 Tyson St Versailles IN United States;X-APPLE-RADIUS=500;X-TITLE=101 Tyson St:geo:-85.251285,39.071563
END:VEVENT
END:VCALENDAR